BEGIN:VCALENDAR
VERSION:2.0
PRODID:-//Crossroads - ECPv6.15.12.2//NONSGML v1.0//EN
CALSCALE:GREGORIAN
METHOD:PUBLISH
X-WR-CALNAME:Crossroads
X-ORIGINAL-URL:https://crossroadsmuscatine.org
X-WR-CALDESC:Events for Crossroads
REFRESH-INTERVAL;VALUE=DURATION:PT1H
X-Robots-Tag:noindex
X-PUBLISHED-TTL:PT1H
BEGIN:VTIMEZONE
TZID:America/Chicago
BEGIN:DAYLIGHT
TZOFFSETFROM:-0600
TZOFFSETTO:-0500
TZNAME:CDT
DTSTART:20280312T080000
END:DAYLIGHT
BEGIN:STANDARD
TZOFFSETFROM:-0500
TZOFFSETTO:-0600
TZNAME:CST
DTSTART:20281105T070000
END:STANDARD
BEGIN:DAYLIGHT
TZOFFSETFROM:-0600
TZOFFSETTO:-0500
TZNAME:CDT
DTSTART:20290311T080000
END:DAYLIGHT
BEGIN:STANDARD
TZOFFSETFROM:-0500
TZOFFSETTO:-0600
TZNAME:CST
DTSTART:20291104T070000
END:STANDARD
BEGIN:DAYLIGHT
TZOFFSETFROM:-0600
TZOFFSETTO:-0500
TZNAME:CDT
DTSTART:20300310T080000
END:DAYLIGHT
BEGIN:STANDARD
TZOFFSETFROM:-0500
TZOFFSETTO:-0600
TZNAME:CST
DTSTART:20301103T070000
END:STANDARD
BEGIN:DAYLIGHT
TZOFFSETFROM:-0600
TZOFFSETTO:-0500
TZNAME:CDT
DTSTART:20310309T080000
END:DAYLIGHT
BEGIN:STANDARD
TZOFFSETFROM:-0500
TZOFFSETTO:-0600
TZNAME:CST
DTSTART:20311102T070000
END:STANDARD
END:VTIMEZONE
BEGIN:VEVENT
DTSTART;TZID=America/Chicago:20290508T153000
DTEND;TZID=America/Chicago:20290508T163000
DTSTAMP:20260424T040250
CREATED:20250722T124039Z
LAST-MODIFIED:20250722T124040Z
UID:10000178-1872948600-1872952200@crossroadsmuscatine.org
SUMMARY:Advocacy Chat
DESCRIPTION:Join us for an important conversation about the legislative issues affecting our clients.  Learn how these policies impact Crossroads services and how you can take action to make your voice heard. \nYour Advocacy Matters!
URL:https://crossroadsmuscatine.org/event/advocacy-chat-2/2029-05-08/
LOCATION:Crossroads
CATEGORIES:Advocacy
ATTACH;FMTTYPE=image/jpeg:https://crossroadsmuscatine.org/wp-content/uploads/2025/02/req-7d9d154c-4e36-4a8c-9356-b959222abd1e-1.jpg
END:VEVENT
BEGIN:VEVENT
DTSTART;TZID=America/Chicago:20290612T153000
DTEND;TZID=America/Chicago:20290612T163000
DTSTAMP:20260424T040250
CREATED:20250722T124039Z
LAST-MODIFIED:20250722T124040Z
UID:10000136-1875972600-1875976200@crossroadsmuscatine.org
SUMMARY:Advocacy Chat
DESCRIPTION:Join us for an important conversation about the legislative issues affecting our clients.  Learn how these policies impact Crossroads services and how you can take action to make your voice heard. \nYour Advocacy Matters!
URL:https://crossroadsmuscatine.org/event/advocacy-chat-2/2029-06-12/
LOCATION:Crossroads
CATEGORIES:Advocacy
ATTACH;FMTTYPE=image/jpeg:https://crossroadsmuscatine.org/wp-content/uploads/2025/02/req-7d9d154c-4e36-4a8c-9356-b959222abd1e-1.jpg
END:VEVENT
BEGIN:VEVENT
DTSTART;TZID=America/Chicago:20290710T153000
DTEND;TZID=America/Chicago:20290710T163000
DTSTAMP:20260424T040250
CREATED:20250722T124039Z
LAST-MODIFIED:20250722T124040Z
UID:10000138-1878391800-1878395400@crossroadsmuscatine.org
SUMMARY:Advocacy Chat
DESCRIPTION:Join us for an important conversation about the legislative issues affecting our clients.  Learn how these policies impact Crossroads services and how you can take action to make your voice heard. \nYour Advocacy Matters!
URL:https://crossroadsmuscatine.org/event/advocacy-chat-2/2029-07-10/
LOCATION:Crossroads
CATEGORIES:Advocacy
ATTACH;FMTTYPE=image/jpeg:https://crossroadsmuscatine.org/wp-content/uploads/2025/02/req-7d9d154c-4e36-4a8c-9356-b959222abd1e-1.jpg
END:VEVENT
BEGIN:VEVENT
DTSTART;TZID=America/Chicago:20290814T153000
DTEND;TZID=America/Chicago:20290814T163000
DTSTAMP:20260424T040250
CREATED:20250722T124039Z
LAST-MODIFIED:20250722T124040Z
UID:10000179-1881415800-1881419400@crossroadsmuscatine.org
SUMMARY:Advocacy Chat
DESCRIPTION:Join us for an important conversation about the legislative issues affecting our clients.  Learn how these policies impact Crossroads services and how you can take action to make your voice heard. \nYour Advocacy Matters!
URL:https://crossroadsmuscatine.org/event/advocacy-chat-2/2029-08-14/
LOCATION:Crossroads
CATEGORIES:Advocacy
ATTACH;FMTTYPE=image/jpeg:https://crossroadsmuscatine.org/wp-content/uploads/2025/02/req-7d9d154c-4e36-4a8c-9356-b959222abd1e-1.jpg
END:VEVENT
BEGIN:VEVENT
DTSTART;TZID=America/Chicago:20290911T153000
DTEND;TZID=America/Chicago:20290911T163000
DTSTAMP:20260424T040250
CREATED:20250722T124039Z
LAST-MODIFIED:20250722T124040Z
UID:10000180-1883835000-1883838600@crossroadsmuscatine.org
SUMMARY:Advocacy Chat
DESCRIPTION:Join us for an important conversation about the legislative issues affecting our clients.  Learn how these policies impact Crossroads services and how you can take action to make your voice heard. \nYour Advocacy Matters!
URL:https://crossroadsmuscatine.org/event/advocacy-chat-2/2029-09-11/
LOCATION:Crossroads
CATEGORIES:Advocacy
ATTACH;FMTTYPE=image/jpeg:https://crossroadsmuscatine.org/wp-content/uploads/2025/02/req-7d9d154c-4e36-4a8c-9356-b959222abd1e-1.jpg
END:VEVENT
BEGIN:VEVENT
DTSTART;TZID=America/Chicago:20291009T153000
DTEND;TZID=America/Chicago:20291009T163000
DTSTAMP:20260424T040250
CREATED:20250722T124039Z
LAST-MODIFIED:20250722T124040Z
UID:10000181-1886254200-1886257800@crossroadsmuscatine.org
SUMMARY:Advocacy Chat
DESCRIPTION:Join us for an important conversation about the legislative issues affecting our clients.  Learn how these policies impact Crossroads services and how you can take action to make your voice heard. \nYour Advocacy Matters!
URL:https://crossroadsmuscatine.org/event/advocacy-chat-2/2029-10-09/
LOCATION:Crossroads
CATEGORIES:Advocacy
ATTACH;FMTTYPE=image/jpeg:https://crossroadsmuscatine.org/wp-content/uploads/2025/02/req-7d9d154c-4e36-4a8c-9356-b959222abd1e-1.jpg
END:VEVENT
BEGIN:VEVENT
DTSTART;TZID=America/Chicago:20291113T153000
DTEND;TZID=America/Chicago:20291113T163000
DTSTAMP:20260424T040250
CREATED:20250722T124039Z
LAST-MODIFIED:20250722T124040Z
UID:10000147-1889278200-1889281800@crossroadsmuscatine.org
SUMMARY:Advocacy Chat
DESCRIPTION:Join us for an important conversation about the legislative issues affecting our clients.  Learn how these policies impact Crossroads services and how you can take action to make your voice heard. \nYour Advocacy Matters!
URL:https://crossroadsmuscatine.org/event/advocacy-chat-2/2029-11-13/
LOCATION:Crossroads
CATEGORIES:Advocacy
ATTACH;FMTTYPE=image/jpeg:https://crossroadsmuscatine.org/wp-content/uploads/2025/02/req-7d9d154c-4e36-4a8c-9356-b959222abd1e-1.jpg
END:VEVENT
BEGIN:VEVENT
DTSTART;TZID=America/Chicago:20291211T153000
DTEND;TZID=America/Chicago:20291211T163000
DTSTAMP:20260424T040250
CREATED:20250722T124039Z
LAST-MODIFIED:20250722T124040Z
UID:10000149-1891697400-1891701000@crossroadsmuscatine.org
SUMMARY:Advocacy Chat
DESCRIPTION:Join us for an important conversation about the legislative issues affecting our clients.  Learn how these policies impact Crossroads services and how you can take action to make your voice heard. \nYour Advocacy Matters!
URL:https://crossroadsmuscatine.org/event/advocacy-chat-2/2029-12-11/
LOCATION:Crossroads
CATEGORIES:Advocacy
ATTACH;FMTTYPE=image/jpeg:https://crossroadsmuscatine.org/wp-content/uploads/2025/02/req-7d9d154c-4e36-4a8c-9356-b959222abd1e-1.jpg
END:VEVENT
BEGIN:VEVENT
DTSTART;TZID=America/Chicago:20300108T153000
DTEND;TZID=America/Chicago:20300108T163000
DTSTAMP:20260424T040250
CREATED:20250722T124039Z
LAST-MODIFIED:20250722T124040Z
UID:10000151-1894116600-1894120200@crossroadsmuscatine.org
SUMMARY:Advocacy Chat
DESCRIPTION:Join us for an important conversation about the legislative issues affecting our clients.  Learn how these policies impact Crossroads services and how you can take action to make your voice heard. \nYour Advocacy Matters!
URL:https://crossroadsmuscatine.org/event/advocacy-chat-2/2030-01-08/
LOCATION:Crossroads
CATEGORIES:Advocacy
ATTACH;FMTTYPE=image/jpeg:https://crossroadsmuscatine.org/wp-content/uploads/2025/02/req-7d9d154c-4e36-4a8c-9356-b959222abd1e-1.jpg
END:VEVENT
BEGIN:VEVENT
DTSTART;TZID=America/Chicago:20300212T153000
DTEND;TZID=America/Chicago:20300212T163000
DTSTAMP:20260424T040250
CREATED:20250722T124039Z
LAST-MODIFIED:20250722T124040Z
UID:10000182-1897140600-1897144200@crossroadsmuscatine.org
SUMMARY:Advocacy Chat
DESCRIPTION:Join us for an important conversation about the legislative issues affecting our clients.  Learn how these policies impact Crossroads services and how you can take action to make your voice heard. \nYour Advocacy Matters!
URL:https://crossroadsmuscatine.org/event/advocacy-chat-2/2030-02-12/
LOCATION:Crossroads
CATEGORIES:Advocacy
ATTACH;FMTTYPE=image/jpeg:https://crossroadsmuscatine.org/wp-content/uploads/2025/02/req-7d9d154c-4e36-4a8c-9356-b959222abd1e-1.jpg
END:VEVENT
BEGIN:VEVENT
DTSTART;TZID=America/Chicago:20300312T153000
DTEND;TZID=America/Chicago:20300312T163000
DTSTAMP:20260424T040250
CREATED:20250722T124039Z
LAST-MODIFIED:20250722T124040Z
UID:10000183-1899559800-1899563400@crossroadsmuscatine.org
SUMMARY:Advocacy Chat
DESCRIPTION:Join us for an important conversation about the legislative issues affecting our clients.  Learn how these policies impact Crossroads services and how you can take action to make your voice heard. \nYour Advocacy Matters!
URL:https://crossroadsmuscatine.org/event/advocacy-chat-2/2030-03-12/
LOCATION:Crossroads
CATEGORIES:Advocacy
ATTACH;FMTTYPE=image/jpeg:https://crossroadsmuscatine.org/wp-content/uploads/2025/02/req-7d9d154c-4e36-4a8c-9356-b959222abd1e-1.jpg
END:VEVENT
BEGIN:VEVENT
DTSTART;TZID=America/Chicago:20300409T153000
DTEND;TZID=America/Chicago:20300409T163000
DTSTAMP:20260424T040250
CREATED:20250722T124039Z
LAST-MODIFIED:20250722T124040Z
UID:10000184-1901979000-1901982600@crossroadsmuscatine.org
SUMMARY:Advocacy Chat
DESCRIPTION:Join us for an important conversation about the legislative issues affecting our clients.  Learn how these policies impact Crossroads services and how you can take action to make your voice heard. \nYour Advocacy Matters!
URL:https://crossroadsmuscatine.org/event/advocacy-chat-2/2030-04-09/
LOCATION:Crossroads
CATEGORIES:Advocacy
ATTACH;FMTTYPE=image/jpeg:https://crossroadsmuscatine.org/wp-content/uploads/2025/02/req-7d9d154c-4e36-4a8c-9356-b959222abd1e-1.jpg
END:VEVENT
BEGIN:VEVENT
DTSTART;TZID=America/Chicago:20300514T153000
DTEND;TZID=America/Chicago:20300514T163000
DTSTAMP:20260424T040250
CREATED:20250722T124039Z
LAST-MODIFIED:20250722T124040Z
UID:10000185-1905003000-1905006600@crossroadsmuscatine.org
SUMMARY:Advocacy Chat
DESCRIPTION:Join us for an important conversation about the legislative issues affecting our clients.  Learn how these policies impact Crossroads services and how you can take action to make your voice heard. \nYour Advocacy Matters!
URL:https://crossroadsmuscatine.org/event/advocacy-chat-2/2030-05-14/
LOCATION:Crossroads
CATEGORIES:Advocacy
ATTACH;FMTTYPE=image/jpeg:https://crossroadsmuscatine.org/wp-content/uploads/2025/02/req-7d9d154c-4e36-4a8c-9356-b959222abd1e-1.jpg
END:VEVENT
BEGIN:VEVENT
DTSTART;TZID=America/Chicago:20300611T153000
DTEND;TZID=America/Chicago:20300611T163000
DTSTAMP:20260424T040250
CREATED:20250722T124039Z
LAST-MODIFIED:20250722T124040Z
UID:10000186-1907422200-1907425800@crossroadsmuscatine.org
SUMMARY:Advocacy Chat
DESCRIPTION:Join us for an important conversation about the legislative issues affecting our clients.  Learn how these policies impact Crossroads services and how you can take action to make your voice heard. \nYour Advocacy Matters!
URL:https://crossroadsmuscatine.org/event/advocacy-chat-2/2030-06-11/
LOCATION:Crossroads
CATEGORIES:Advocacy
ATTACH;FMTTYPE=image/jpeg:https://crossroadsmuscatine.org/wp-content/uploads/2025/02/req-7d9d154c-4e36-4a8c-9356-b959222abd1e-1.jpg
END:VEVENT
BEGIN:VEVENT
DTSTART;TZID=America/Chicago:20300709T153000
DTEND;TZID=America/Chicago:20300709T163000
DTSTAMP:20260424T040250
CREATED:20250722T124039Z
LAST-MODIFIED:20250722T124040Z
UID:10000187-1909841400-1909845000@crossroadsmuscatine.org
SUMMARY:Advocacy Chat
DESCRIPTION:Join us for an important conversation about the legislative issues affecting our clients.  Learn how these policies impact Crossroads services and how you can take action to make your voice heard. \nYour Advocacy Matters!
URL:https://crossroadsmuscatine.org/event/advocacy-chat-2/2030-07-09/
LOCATION:Crossroads
CATEGORIES:Advocacy
ATTACH;FMTTYPE=image/jpeg:https://crossroadsmuscatine.org/wp-content/uploads/2025/02/req-7d9d154c-4e36-4a8c-9356-b959222abd1e-1.jpg
END:VEVENT
END:VCALENDAR