BEGIN:VCALENDAR
VERSION:2.0
PRODID:-//Crossroads - ECPv6.15.12.2//NONSGML v1.0//EN
CALSCALE:GREGORIAN
METHOD:PUBLISH
X-WR-CALNAME:Crossroads
X-ORIGINAL-URL:https://crossroadsmuscatine.org
X-WR-CALDESC:Events for Crossroads
REFRESH-INTERVAL;VALUE=DURATION:PT1H
X-Robots-Tag:noindex
X-PUBLISHED-TTL:PT1H
BEGIN:VTIMEZONE
TZID:America/Chicago
BEGIN:DAYLIGHT
TZOFFSETFROM:-0600
TZOFFSETTO:-0500
TZNAME:CDT
DTSTART:20250309T080000
END:DAYLIGHT
BEGIN:STANDARD
TZOFFSETFROM:-0500
TZOFFSETTO:-0600
TZNAME:CST
DTSTART:20251102T070000
END:STANDARD
BEGIN:DAYLIGHT
TZOFFSETFROM:-0600
TZOFFSETTO:-0500
TZNAME:CDT
DTSTART:20260308T080000
END:DAYLIGHT
BEGIN:STANDARD
TZOFFSETFROM:-0500
TZOFFSETTO:-0600
TZNAME:CST
DTSTART:20261101T070000
END:STANDARD
BEGIN:DAYLIGHT
TZOFFSETFROM:-0600
TZOFFSETTO:-0500
TZNAME:CDT
DTSTART:20270314T080000
END:DAYLIGHT
BEGIN:STANDARD
TZOFFSETFROM:-0500
TZOFFSETTO:-0600
TZNAME:CST
DTSTART:20271107T070000
END:STANDARD
BEGIN:DAYLIGHT
TZOFFSETFROM:-0600
TZOFFSETTO:-0500
TZNAME:CDT
DTSTART:20280312T080000
END:DAYLIGHT
BEGIN:STANDARD
TZOFFSETFROM:-0500
TZOFFSETTO:-0600
TZNAME:CST
DTSTART:20281105T070000
END:STANDARD
BEGIN:DAYLIGHT
TZOFFSETFROM:-0600
TZOFFSETTO:-0500
TZNAME:CDT
DTSTART:20290311T080000
END:DAYLIGHT
BEGIN:STANDARD
TZOFFSETFROM:-0500
TZOFFSETTO:-0600
TZNAME:CST
DTSTART:20291104T070000
END:STANDARD
END:VTIMEZONE
BEGIN:VEVENT
DTSTART;TZID=America/Chicago:20260512T153000
DTEND;TZID=America/Chicago:20260512T163000
DTSTAMP:20260421T053945
CREATED:20250722T124039Z
LAST-MODIFIED:20250722T124040Z
UID:10000159-1778599800-1778603400@crossroadsmuscatine.org
SUMMARY:Advocacy Chat
DESCRIPTION:Join us for an important conversation about the legislative issues affecting our clients.  Learn how these policies impact Crossroads services and how you can take action to make your voice heard. \nYour Advocacy Matters!
URL:https://crossroadsmuscatine.org/event/advocacy-chat-2/2026-05-12/
LOCATION:Crossroads
CATEGORIES:Advocacy
ATTACH;FMTTYPE=image/jpeg:https://crossroadsmuscatine.org/wp-content/uploads/2025/02/req-7d9d154c-4e36-4a8c-9356-b959222abd1e-1.jpg
END:VEVENT
BEGIN:VEVENT
DTSTART;TZID=America/Chicago:20260609T153000
DTEND;TZID=America/Chicago:20260609T163000
DTSTAMP:20260421T053945
CREATED:20250722T124039Z
LAST-MODIFIED:20250722T124040Z
UID:10000160-1781019000-1781022600@crossroadsmuscatine.org
SUMMARY:Advocacy Chat
DESCRIPTION:Join us for an important conversation about the legislative issues affecting our clients.  Learn how these policies impact Crossroads services and how you can take action to make your voice heard. \nYour Advocacy Matters!
URL:https://crossroadsmuscatine.org/event/advocacy-chat-2/2026-06-09/
LOCATION:Crossroads
CATEGORIES:Advocacy
ATTACH;FMTTYPE=image/jpeg:https://crossroadsmuscatine.org/wp-content/uploads/2025/02/req-7d9d154c-4e36-4a8c-9356-b959222abd1e-1.jpg
END:VEVENT
BEGIN:VEVENT
DTSTART;TZID=America/Chicago:20260714T153000
DTEND;TZID=America/Chicago:20260714T163000
DTSTAMP:20260421T053945
CREATED:20250722T124039Z
LAST-MODIFIED:20250722T124040Z
UID:10000060-1784043000-1784046600@crossroadsmuscatine.org
SUMMARY:Advocacy Chat
DESCRIPTION:Join us for an important conversation about the legislative issues affecting our clients.  Learn how these policies impact Crossroads services and how you can take action to make your voice heard. \nYour Advocacy Matters!
URL:https://crossroadsmuscatine.org/event/advocacy-chat-2/2026-07-14/
LOCATION:Crossroads
CATEGORIES:Advocacy
ATTACH;FMTTYPE=image/jpeg:https://crossroadsmuscatine.org/wp-content/uploads/2025/02/req-7d9d154c-4e36-4a8c-9356-b959222abd1e-1.jpg
END:VEVENT
BEGIN:VEVENT
DTSTART;TZID=America/Chicago:20260811T153000
DTEND;TZID=America/Chicago:20260811T163000
DTSTAMP:20260421T053945
CREATED:20250722T124039Z
LAST-MODIFIED:20250722T124040Z
UID:10000062-1786462200-1786465800@crossroadsmuscatine.org
SUMMARY:Advocacy Chat
DESCRIPTION:Join us for an important conversation about the legislative issues affecting our clients.  Learn how these policies impact Crossroads services and how you can take action to make your voice heard. \nYour Advocacy Matters!
URL:https://crossroadsmuscatine.org/event/advocacy-chat-2/2026-08-11/
LOCATION:Crossroads
CATEGORIES:Advocacy
ATTACH;FMTTYPE=image/jpeg:https://crossroadsmuscatine.org/wp-content/uploads/2025/02/req-7d9d154c-4e36-4a8c-9356-b959222abd1e-1.jpg
END:VEVENT
BEGIN:VEVENT
DTSTART;TZID=America/Chicago:20260908T153000
DTEND;TZID=America/Chicago:20260908T163000
DTSTAMP:20260421T053945
CREATED:20250722T124039Z
LAST-MODIFIED:20250722T124040Z
UID:10000064-1788881400-1788885000@crossroadsmuscatine.org
SUMMARY:Advocacy Chat
DESCRIPTION:Join us for an important conversation about the legislative issues affecting our clients.  Learn how these policies impact Crossroads services and how you can take action to make your voice heard. \nYour Advocacy Matters!
URL:https://crossroadsmuscatine.org/event/advocacy-chat-2/2026-09-08/
LOCATION:Crossroads
CATEGORIES:Advocacy
ATTACH;FMTTYPE=image/jpeg:https://crossroadsmuscatine.org/wp-content/uploads/2025/02/req-7d9d154c-4e36-4a8c-9356-b959222abd1e-1.jpg
END:VEVENT
BEGIN:VEVENT
DTSTART;TZID=America/Chicago:20261013T153000
DTEND;TZID=America/Chicago:20261013T163000
DTSTAMP:20260421T053945
CREATED:20250722T124039Z
LAST-MODIFIED:20250722T124040Z
UID:10000161-1791905400-1791909000@crossroadsmuscatine.org
SUMMARY:Advocacy Chat
DESCRIPTION:Join us for an important conversation about the legislative issues affecting our clients.  Learn how these policies impact Crossroads services and how you can take action to make your voice heard. \nYour Advocacy Matters!
URL:https://crossroadsmuscatine.org/event/advocacy-chat-2/2026-10-13/
LOCATION:Crossroads
CATEGORIES:Advocacy
ATTACH;FMTTYPE=image/jpeg:https://crossroadsmuscatine.org/wp-content/uploads/2025/02/req-7d9d154c-4e36-4a8c-9356-b959222abd1e-1.jpg
END:VEVENT
BEGIN:VEVENT
DTSTART;TZID=America/Chicago:20261110T153000
DTEND;TZID=America/Chicago:20261110T163000
DTSTAMP:20260421T053945
CREATED:20250722T124039Z
LAST-MODIFIED:20250722T124040Z
UID:10000162-1794324600-1794328200@crossroadsmuscatine.org
SUMMARY:Advocacy Chat
DESCRIPTION:Join us for an important conversation about the legislative issues affecting our clients.  Learn how these policies impact Crossroads services and how you can take action to make your voice heard. \nYour Advocacy Matters!
URL:https://crossroadsmuscatine.org/event/advocacy-chat-2/2026-11-10/
LOCATION:Crossroads
CATEGORIES:Advocacy
ATTACH;FMTTYPE=image/jpeg:https://crossroadsmuscatine.org/wp-content/uploads/2025/02/req-7d9d154c-4e36-4a8c-9356-b959222abd1e-1.jpg
END:VEVENT
BEGIN:VEVENT
DTSTART;TZID=America/Chicago:20261208T153000
DTEND;TZID=America/Chicago:20261208T163000
DTSTAMP:20260421T053945
CREATED:20250722T124039Z
LAST-MODIFIED:20250722T124040Z
UID:10000163-1796743800-1796747400@crossroadsmuscatine.org
SUMMARY:Advocacy Chat
DESCRIPTION:Join us for an important conversation about the legislative issues affecting our clients.  Learn how these policies impact Crossroads services and how you can take action to make your voice heard. \nYour Advocacy Matters!
URL:https://crossroadsmuscatine.org/event/advocacy-chat-2/2026-12-08/
LOCATION:Crossroads
CATEGORIES:Advocacy
ATTACH;FMTTYPE=image/jpeg:https://crossroadsmuscatine.org/wp-content/uploads/2025/02/req-7d9d154c-4e36-4a8c-9356-b959222abd1e-1.jpg
END:VEVENT
BEGIN:VEVENT
DTSTART;TZID=America/Chicago:20270112T153000
DTEND;TZID=America/Chicago:20270112T163000
DTSTAMP:20260421T053945
CREATED:20250722T124039Z
LAST-MODIFIED:20250722T124040Z
UID:10000073-1799767800-1799771400@crossroadsmuscatine.org
SUMMARY:Advocacy Chat
DESCRIPTION:Join us for an important conversation about the legislative issues affecting our clients.  Learn how these policies impact Crossroads services and how you can take action to make your voice heard. \nYour Advocacy Matters!
URL:https://crossroadsmuscatine.org/event/advocacy-chat-2/2027-01-12/
LOCATION:Crossroads
CATEGORIES:Advocacy
ATTACH;FMTTYPE=image/jpeg:https://crossroadsmuscatine.org/wp-content/uploads/2025/02/req-7d9d154c-4e36-4a8c-9356-b959222abd1e-1.jpg
END:VEVENT
BEGIN:VEVENT
DTSTART;TZID=America/Chicago:20270209T153000
DTEND;TZID=America/Chicago:20270209T163000
DTSTAMP:20260421T053945
CREATED:20250722T124039Z
LAST-MODIFIED:20250722T124040Z
UID:10000075-1802187000-1802190600@crossroadsmuscatine.org
SUMMARY:Advocacy Chat
DESCRIPTION:Join us for an important conversation about the legislative issues affecting our clients.  Learn how these policies impact Crossroads services and how you can take action to make your voice heard. \nYour Advocacy Matters!
URL:https://crossroadsmuscatine.org/event/advocacy-chat-2/2027-02-09/
LOCATION:Crossroads
CATEGORIES:Advocacy
ATTACH;FMTTYPE=image/jpeg:https://crossroadsmuscatine.org/wp-content/uploads/2025/02/req-7d9d154c-4e36-4a8c-9356-b959222abd1e-1.jpg
END:VEVENT
BEGIN:VEVENT
DTSTART;TZID=America/Chicago:20270309T153000
DTEND;TZID=America/Chicago:20270309T163000
DTSTAMP:20260421T053945
CREATED:20250722T124039Z
LAST-MODIFIED:20250722T124040Z
UID:10000077-1804606200-1804609800@crossroadsmuscatine.org
SUMMARY:Advocacy Chat
DESCRIPTION:Join us for an important conversation about the legislative issues affecting our clients.  Learn how these policies impact Crossroads services and how you can take action to make your voice heard. \nYour Advocacy Matters!
URL:https://crossroadsmuscatine.org/event/advocacy-chat-2/2027-03-09/
LOCATION:Crossroads
CATEGORIES:Advocacy
ATTACH;FMTTYPE=image/jpeg:https://crossroadsmuscatine.org/wp-content/uploads/2025/02/req-7d9d154c-4e36-4a8c-9356-b959222abd1e-1.jpg
END:VEVENT
BEGIN:VEVENT
DTSTART;TZID=America/Chicago:20270413T153000
DTEND;TZID=America/Chicago:20270413T163000
DTSTAMP:20260421T053945
CREATED:20250722T124039Z
LAST-MODIFIED:20250722T124040Z
UID:10000164-1807630200-1807633800@crossroadsmuscatine.org
SUMMARY:Advocacy Chat
DESCRIPTION:Join us for an important conversation about the legislative issues affecting our clients.  Learn how these policies impact Crossroads services and how you can take action to make your voice heard. \nYour Advocacy Matters!
URL:https://crossroadsmuscatine.org/event/advocacy-chat-2/2027-04-13/
LOCATION:Crossroads
CATEGORIES:Advocacy
ATTACH;FMTTYPE=image/jpeg:https://crossroadsmuscatine.org/wp-content/uploads/2025/02/req-7d9d154c-4e36-4a8c-9356-b959222abd1e-1.jpg
END:VEVENT
BEGIN:VEVENT
DTSTART;TZID=America/Chicago:20270511T153000
DTEND;TZID=America/Chicago:20270511T163000
DTSTAMP:20260421T053945
CREATED:20250722T124039Z
LAST-MODIFIED:20250722T124040Z
UID:10000165-1810049400-1810053000@crossroadsmuscatine.org
SUMMARY:Advocacy Chat
DESCRIPTION:Join us for an important conversation about the legislative issues affecting our clients.  Learn how these policies impact Crossroads services and how you can take action to make your voice heard. \nYour Advocacy Matters!
URL:https://crossroadsmuscatine.org/event/advocacy-chat-2/2027-05-11/
LOCATION:Crossroads
CATEGORIES:Advocacy
ATTACH;FMTTYPE=image/jpeg:https://crossroadsmuscatine.org/wp-content/uploads/2025/02/req-7d9d154c-4e36-4a8c-9356-b959222abd1e-1.jpg
END:VEVENT
BEGIN:VEVENT
DTSTART;TZID=America/Chicago:20270608T153000
DTEND;TZID=America/Chicago:20270608T163000
DTSTAMP:20260421T053945
CREATED:20250722T124039Z
LAST-MODIFIED:20250722T124040Z
UID:10000166-1812468600-1812472200@crossroadsmuscatine.org
SUMMARY:Advocacy Chat
DESCRIPTION:Join us for an important conversation about the legislative issues affecting our clients.  Learn how these policies impact Crossroads services and how you can take action to make your voice heard. \nYour Advocacy Matters!
URL:https://crossroadsmuscatine.org/event/advocacy-chat-2/2027-06-08/
LOCATION:Crossroads
CATEGORIES:Advocacy
ATTACH;FMTTYPE=image/jpeg:https://crossroadsmuscatine.org/wp-content/uploads/2025/02/req-7d9d154c-4e36-4a8c-9356-b959222abd1e-1.jpg
END:VEVENT
BEGIN:VEVENT
DTSTART;TZID=America/Chicago:20270713T153000
DTEND;TZID=America/Chicago:20270713T163000
DTSTAMP:20260421T053945
CREATED:20250722T124039Z
LAST-MODIFIED:20250722T124040Z
UID:10000086-1815492600-1815496200@crossroadsmuscatine.org
SUMMARY:Advocacy Chat
DESCRIPTION:Join us for an important conversation about the legislative issues affecting our clients.  Learn how these policies impact Crossroads services and how you can take action to make your voice heard. \nYour Advocacy Matters!
URL:https://crossroadsmuscatine.org/event/advocacy-chat-2/2027-07-13/
LOCATION:Crossroads
CATEGORIES:Advocacy
ATTACH;FMTTYPE=image/jpeg:https://crossroadsmuscatine.org/wp-content/uploads/2025/02/req-7d9d154c-4e36-4a8c-9356-b959222abd1e-1.jpg
END:VEVENT
BEGIN:VEVENT
DTSTART;TZID=America/Chicago:20270810T153000
DTEND;TZID=America/Chicago:20270810T163000
DTSTAMP:20260421T053945
CREATED:20250722T124039Z
LAST-MODIFIED:20250722T124040Z
UID:10000088-1817911800-1817915400@crossroadsmuscatine.org
SUMMARY:Advocacy Chat
DESCRIPTION:Join us for an important conversation about the legislative issues affecting our clients.  Learn how these policies impact Crossroads services and how you can take action to make your voice heard. \nYour Advocacy Matters!
URL:https://crossroadsmuscatine.org/event/advocacy-chat-2/2027-08-10/
LOCATION:Crossroads
CATEGORIES:Advocacy
ATTACH;FMTTYPE=image/jpeg:https://crossroadsmuscatine.org/wp-content/uploads/2025/02/req-7d9d154c-4e36-4a8c-9356-b959222abd1e-1.jpg
END:VEVENT
BEGIN:VEVENT
DTSTART;TZID=America/Chicago:20270914T153000
DTEND;TZID=America/Chicago:20270914T163000
DTSTAMP:20260421T053945
CREATED:20250722T124039Z
LAST-MODIFIED:20250722T124040Z
UID:10000167-1820935800-1820939400@crossroadsmuscatine.org
SUMMARY:Advocacy Chat
DESCRIPTION:Join us for an important conversation about the legislative issues affecting our clients.  Learn how these policies impact Crossroads services and how you can take action to make your voice heard. \nYour Advocacy Matters!
URL:https://crossroadsmuscatine.org/event/advocacy-chat-2/2027-09-14/
LOCATION:Crossroads
CATEGORIES:Advocacy
ATTACH;FMTTYPE=image/jpeg:https://crossroadsmuscatine.org/wp-content/uploads/2025/02/req-7d9d154c-4e36-4a8c-9356-b959222abd1e-1.jpg
END:VEVENT
BEGIN:VEVENT
DTSTART;TZID=America/Chicago:20271012T153000
DTEND;TZID=America/Chicago:20271012T163000
DTSTAMP:20260421T053945
CREATED:20250722T124039Z
LAST-MODIFIED:20250722T124040Z
UID:10000168-1823355000-1823358600@crossroadsmuscatine.org
SUMMARY:Advocacy Chat
DESCRIPTION:Join us for an important conversation about the legislative issues affecting our clients.  Learn how these policies impact Crossroads services and how you can take action to make your voice heard. \nYour Advocacy Matters!
URL:https://crossroadsmuscatine.org/event/advocacy-chat-2/2027-10-12/
LOCATION:Crossroads
CATEGORIES:Advocacy
ATTACH;FMTTYPE=image/jpeg:https://crossroadsmuscatine.org/wp-content/uploads/2025/02/req-7d9d154c-4e36-4a8c-9356-b959222abd1e-1.jpg
END:VEVENT
BEGIN:VEVENT
DTSTART;TZID=America/Chicago:20271109T153000
DTEND;TZID=America/Chicago:20271109T163000
DTSTAMP:20260421T053945
CREATED:20250722T124039Z
LAST-MODIFIED:20250722T124040Z
UID:10000169-1825774200-1825777800@crossroadsmuscatine.org
SUMMARY:Advocacy Chat
DESCRIPTION:Join us for an important conversation about the legislative issues affecting our clients.  Learn how these policies impact Crossroads services and how you can take action to make your voice heard. \nYour Advocacy Matters!
URL:https://crossroadsmuscatine.org/event/advocacy-chat-2/2027-11-09/
LOCATION:Crossroads
CATEGORIES:Advocacy
ATTACH;FMTTYPE=image/jpeg:https://crossroadsmuscatine.org/wp-content/uploads/2025/02/req-7d9d154c-4e36-4a8c-9356-b959222abd1e-1.jpg
END:VEVENT
BEGIN:VEVENT
DTSTART;TZID=America/Chicago:20271214T153000
DTEND;TZID=America/Chicago:20271214T163000
DTSTAMP:20260421T053945
CREATED:20250722T124039Z
LAST-MODIFIED:20250722T124040Z
UID:10000097-1828798200-1828801800@crossroadsmuscatine.org
SUMMARY:Advocacy Chat
DESCRIPTION:Join us for an important conversation about the legislative issues affecting our clients.  Learn how these policies impact Crossroads services and how you can take action to make your voice heard. \nYour Advocacy Matters!
URL:https://crossroadsmuscatine.org/event/advocacy-chat-2/2027-12-14/
LOCATION:Crossroads
CATEGORIES:Advocacy
ATTACH;FMTTYPE=image/jpeg:https://crossroadsmuscatine.org/wp-content/uploads/2025/02/req-7d9d154c-4e36-4a8c-9356-b959222abd1e-1.jpg
END:VEVENT
BEGIN:VEVENT
DTSTART;TZID=America/Chicago:20280111T153000
DTEND;TZID=America/Chicago:20280111T163000
DTSTAMP:20260421T053945
CREATED:20250722T124039Z
LAST-MODIFIED:20250722T124040Z
UID:10000099-1831217400-1831221000@crossroadsmuscatine.org
SUMMARY:Advocacy Chat
DESCRIPTION:Join us for an important conversation about the legislative issues affecting our clients.  Learn how these policies impact Crossroads services and how you can take action to make your voice heard. \nYour Advocacy Matters!
URL:https://crossroadsmuscatine.org/event/advocacy-chat-2/2028-01-11/
LOCATION:Crossroads
CATEGORIES:Advocacy
ATTACH;FMTTYPE=image/jpeg:https://crossroadsmuscatine.org/wp-content/uploads/2025/02/req-7d9d154c-4e36-4a8c-9356-b959222abd1e-1.jpg
END:VEVENT
BEGIN:VEVENT
DTSTART;TZID=America/Chicago:20280208T153000
DTEND;TZID=America/Chicago:20280208T163000
DTSTAMP:20260421T053945
CREATED:20250722T124039Z
LAST-MODIFIED:20250722T124040Z
UID:10000101-1833636600-1833640200@crossroadsmuscatine.org
SUMMARY:Advocacy Chat
DESCRIPTION:Join us for an important conversation about the legislative issues affecting our clients.  Learn how these policies impact Crossroads services and how you can take action to make your voice heard. \nYour Advocacy Matters!
URL:https://crossroadsmuscatine.org/event/advocacy-chat-2/2028-02-08/
LOCATION:Crossroads
CATEGORIES:Advocacy
ATTACH;FMTTYPE=image/jpeg:https://crossroadsmuscatine.org/wp-content/uploads/2025/02/req-7d9d154c-4e36-4a8c-9356-b959222abd1e-1.jpg
END:VEVENT
BEGIN:VEVENT
DTSTART;TZID=America/Chicago:20280314T153000
DTEND;TZID=America/Chicago:20280314T163000
DTSTAMP:20260421T053945
CREATED:20250722T124039Z
LAST-MODIFIED:20250722T124040Z
UID:10000170-1836660600-1836664200@crossroadsmuscatine.org
SUMMARY:Advocacy Chat
DESCRIPTION:Join us for an important conversation about the legislative issues affecting our clients.  Learn how these policies impact Crossroads services and how you can take action to make your voice heard. \nYour Advocacy Matters!
URL:https://crossroadsmuscatine.org/event/advocacy-chat-2/2028-03-14/
LOCATION:Crossroads
CATEGORIES:Advocacy
ATTACH;FMTTYPE=image/jpeg:https://crossroadsmuscatine.org/wp-content/uploads/2025/02/req-7d9d154c-4e36-4a8c-9356-b959222abd1e-1.jpg
END:VEVENT
BEGIN:VEVENT
DTSTART;TZID=America/Chicago:20280411T153000
DTEND;TZID=America/Chicago:20280411T163000
DTSTAMP:20260421T053945
CREATED:20250722T124039Z
LAST-MODIFIED:20250722T124040Z
UID:10000171-1839079800-1839083400@crossroadsmuscatine.org
SUMMARY:Advocacy Chat
DESCRIPTION:Join us for an important conversation about the legislative issues affecting our clients.  Learn how these policies impact Crossroads services and how you can take action to make your voice heard. \nYour Advocacy Matters!
URL:https://crossroadsmuscatine.org/event/advocacy-chat-2/2028-04-11/
LOCATION:Crossroads
CATEGORIES:Advocacy
ATTACH;FMTTYPE=image/jpeg:https://crossroadsmuscatine.org/wp-content/uploads/2025/02/req-7d9d154c-4e36-4a8c-9356-b959222abd1e-1.jpg
END:VEVENT
BEGIN:VEVENT
DTSTART;TZID=America/Chicago:20280509T153000
DTEND;TZID=America/Chicago:20280509T163000
DTSTAMP:20260421T053945
CREATED:20250722T124039Z
LAST-MODIFIED:20250722T124040Z
UID:10000172-1841499000-1841502600@crossroadsmuscatine.org
SUMMARY:Advocacy Chat
DESCRIPTION:Join us for an important conversation about the legislative issues affecting our clients.  Learn how these policies impact Crossroads services and how you can take action to make your voice heard. \nYour Advocacy Matters!
URL:https://crossroadsmuscatine.org/event/advocacy-chat-2/2028-05-09/
LOCATION:Crossroads
CATEGORIES:Advocacy
ATTACH;FMTTYPE=image/jpeg:https://crossroadsmuscatine.org/wp-content/uploads/2025/02/req-7d9d154c-4e36-4a8c-9356-b959222abd1e-1.jpg
END:VEVENT
BEGIN:VEVENT
DTSTART;TZID=America/Chicago:20280613T153000
DTEND;TZID=America/Chicago:20280613T163000
DTSTAMP:20260421T053945
CREATED:20250722T124039Z
LAST-MODIFIED:20250722T124040Z
UID:10000110-1844523000-1844526600@crossroadsmuscatine.org
SUMMARY:Advocacy Chat
DESCRIPTION:Join us for an important conversation about the legislative issues affecting our clients.  Learn how these policies impact Crossroads services and how you can take action to make your voice heard. \nYour Advocacy Matters!
URL:https://crossroadsmuscatine.org/event/advocacy-chat-2/2028-06-13/
LOCATION:Crossroads
CATEGORIES:Advocacy
ATTACH;FMTTYPE=image/jpeg:https://crossroadsmuscatine.org/wp-content/uploads/2025/02/req-7d9d154c-4e36-4a8c-9356-b959222abd1e-1.jpg
END:VEVENT
BEGIN:VEVENT
DTSTART;TZID=America/Chicago:20280711T153000
DTEND;TZID=America/Chicago:20280711T163000
DTSTAMP:20260421T053945
CREATED:20250722T124039Z
LAST-MODIFIED:20250722T124040Z
UID:10000112-1846942200-1846945800@crossroadsmuscatine.org
SUMMARY:Advocacy Chat
DESCRIPTION:Join us for an important conversation about the legislative issues affecting our clients.  Learn how these policies impact Crossroads services and how you can take action to make your voice heard. \nYour Advocacy Matters!
URL:https://crossroadsmuscatine.org/event/advocacy-chat-2/2028-07-11/
LOCATION:Crossroads
CATEGORIES:Advocacy
ATTACH;FMTTYPE=image/jpeg:https://crossroadsmuscatine.org/wp-content/uploads/2025/02/req-7d9d154c-4e36-4a8c-9356-b959222abd1e-1.jpg
END:VEVENT
BEGIN:VEVENT
DTSTART;TZID=America/Chicago:20280808T153000
DTEND;TZID=America/Chicago:20280808T163000
DTSTAMP:20260421T053945
CREATED:20250722T124039Z
LAST-MODIFIED:20250722T124040Z
UID:10000114-1849361400-1849365000@crossroadsmuscatine.org
SUMMARY:Advocacy Chat
DESCRIPTION:Join us for an important conversation about the legislative issues affecting our clients.  Learn how these policies impact Crossroads services and how you can take action to make your voice heard. \nYour Advocacy Matters!
URL:https://crossroadsmuscatine.org/event/advocacy-chat-2/2028-08-08/
LOCATION:Crossroads
CATEGORIES:Advocacy
ATTACH;FMTTYPE=image/jpeg:https://crossroadsmuscatine.org/wp-content/uploads/2025/02/req-7d9d154c-4e36-4a8c-9356-b959222abd1e-1.jpg
END:VEVENT
BEGIN:VEVENT
DTSTART;TZID=America/Chicago:20280912T153000
DTEND;TZID=America/Chicago:20280912T163000
DTSTAMP:20260421T053945
CREATED:20250722T124039Z
LAST-MODIFIED:20250722T124040Z
UID:10000173-1852385400-1852389000@crossroadsmuscatine.org
SUMMARY:Advocacy Chat
DESCRIPTION:Join us for an important conversation about the legislative issues affecting our clients.  Learn how these policies impact Crossroads services and how you can take action to make your voice heard. \nYour Advocacy Matters!
URL:https://crossroadsmuscatine.org/event/advocacy-chat-2/2028-09-12/
LOCATION:Crossroads
CATEGORIES:Advocacy
ATTACH;FMTTYPE=image/jpeg:https://crossroadsmuscatine.org/wp-content/uploads/2025/02/req-7d9d154c-4e36-4a8c-9356-b959222abd1e-1.jpg
END:VEVENT
BEGIN:VEVENT
DTSTART;TZID=America/Chicago:20281010T153000
DTEND;TZID=America/Chicago:20281010T163000
DTSTAMP:20260421T053945
CREATED:20250722T124039Z
LAST-MODIFIED:20250722T124040Z
UID:10000174-1854804600-1854808200@crossroadsmuscatine.org
SUMMARY:Advocacy Chat
DESCRIPTION:Join us for an important conversation about the legislative issues affecting our clients.  Learn how these policies impact Crossroads services and how you can take action to make your voice heard. \nYour Advocacy Matters!
URL:https://crossroadsmuscatine.org/event/advocacy-chat-2/2028-10-10/
LOCATION:Crossroads
CATEGORIES:Advocacy
ATTACH;FMTTYPE=image/jpeg:https://crossroadsmuscatine.org/wp-content/uploads/2025/02/req-7d9d154c-4e36-4a8c-9356-b959222abd1e-1.jpg
END:VEVENT
END:VCALENDAR